BEGIN:VCALENDAR
VERSION:2.0
PRODID:-//Faculty of Law
CALSCALE:GREGORIAN
METHOD:PUBLISH
X-WR-CALNAME:Faculty of Law
X-ORIGINAL-URL:https://law.cmb.ac.lk/News & Events/rkw-goonesekere-memorial-programme-law-justice/
X-WR-CALDESC:RKW Goonesekere Memorial Programme on Law and Justice
BEGIN:VEVENT
DTSTART:20160729T000000
DTEND:20160730T000000
SUMMARY:RKW Goonesekere Memorial Programme on Law and Justice
DESCRIPTION:
LOCATION:Sri Lanka Foundation Institute
END:VEVENT
END:VCALENDAR
